BEGIN:VCALENDAR
VERSION:2.0
PRODID:-//Lusk Athletic Club - ECPv3.12.3//NONSGML v1.0//EN
CALSCALE:GREGORIAN
METHOD:PUBLISH
X-WR-CALNAME:Lusk Athletic Club
X-ORIGINAL-URL:http://luskathleticclub.ie
X-WR-CALDESC:Events for Lusk Athletic Club
BEGIN:VEVENT
DTSTART;VALUE=DATE:20171217
DTEND;VALUE=DATE:20171217
DTSTAMP:20171107T104759Z
CREATED:20170731T142722Z
LAST-MODIFIED:20170731T142722Z
UID:3876-1513468800-1513555199@luskathleticclub.ie
SUMMARY:National Juvenile Cross Country Uneven Age Championships
DESCRIPTION:
URL:http://luskathleticclub.ie/fixture/national-juvenile-cross-country-uneven-age-championships/
CATEGORIES:Championships,Juvenile,Uneven Age
END:VEVENT
END:VCALENDAR